OziExplorer Map Data File Version 2.2
Blank Map
N:\OziExplorer\Maps\Ukraine\KamPod\kp_zone.ozfx3
1 ,Map Code,
Pulkovo 1942 (1),WGS 84, 0.0000, 0.0000,WGS 84
Reserved 1
Reserved 2
Magnetic Variation,3,50,E
Map Projection,Transverse Mercator,PolyCal,No,AutoCalOnly,No,BSBUseWPX,No
Point01,xy, 3657, 4258,in, deg, 48, 35,N, 26, 37.5,E, grid, , , ,N
Point02,xy, 747, 4247,in, deg, 48, 35,N, 26, 22.5,E, grid, , , ,N
Point03,xy, 758, 1367,in, deg, 48, 45,N, 26, 22.5,E, grid, , , ,N
Point04,xy, 3658, 1363,in, deg, 48, 45,N, 26, 37.5,E, grid, , , ,N
Point05,xy, 2812, 2615,in, deg, , ,N, , ,W, grid, , 5467000, 5394000,N
Point06,xy, 5004, 735,in, deg, , ,N, , ,W, grid, , 5481000, 5406000,N
Point07,xy, 2161, 278,in, deg, , ,N, , ,W, grid, , 5463000, 5409000,N
Point08,xy, 4075, 3549,in, deg, , ,N, , ,W, grid, , 5475000, 5388000,N
Point09,xy, 1867, 3245,in, deg, , ,N, , ,W, grid, , 5461000, 5390000,N
Point10,xy, , ,in, deg, , ,N, , ,W, grid, , , ,N
Point11,xy, , ,in, deg, , ,N, , ,W, grid, , , ,N
Point12,xy, , ,in, deg, , ,N, , ,W, grid, , , ,N
Point13,xy, , ,in, deg, , ,N, , ,W, grid, , , ,N
Point14,xy, , ,in, deg, , ,N, , ,W, grid, , , ,N
Point15,xy, , ,in, deg, , ,N, , ,W, grid, , , ,N
Point16,xy, , ,in, deg, , ,N, , ,W, grid, , , ,N
Point17,xy, , ,in, deg, , ,N, , ,W, grid, , , ,N
Point18,xy, , ,in, deg, , ,N, , ,W, grid, , , ,N
Point19,xy, , ,in, deg, , ,N, , ,W, grid, , , ,N
Point20,xy, , ,in, deg, , ,N, , ,W, grid, , , ,N
Point21,xy, , ,in, deg, , ,N, , ,W, grid, , , ,N
Point22,xy, , ,in, deg, , ,N, , ,W, grid, , , ,N
Point23,xy, , ,in, deg, , ,N, , ,W, grid, , , ,N
Point24,xy, , ,in, deg, , ,N, , ,W, grid, , , ,N
Point25,xy, , ,in, deg, , ,N, , ,W, grid, , , ,N
Point26,xy, , ,in, deg, , ,N, , ,W, grid, , , ,N
Point27,xy, , ,in, deg, , ,N, , ,W, grid, , , ,N
Point28,xy, , ,in, deg, , ,N, , ,W, grid, , , ,N
Point29,xy, , ,in, deg, , ,N, , ,W, grid, , , ,N
Point30,xy, , ,in, deg, , ,N, , ,W, grid, , , ,N
Projection Setup, 0.000000000, 27.000000000, 1.000000000, 5500000.00, 0.00,,,,,
Map Feature = MF ; Map Comment = MC These follow if they exist MF, 1,Center of ZONE, 48.674028, 26.573655, 0, 16777215, 16711680,sector.bmp ,0,MF1 ,0 MF, 2,7_days_hotel, 48.679147, 26.588648, 0, 16777215, 16711680,Camp.bmp ,0,MF2 ,0 MF, 3,Aerodrome, 48.696107, 26.612862, 0, 16777215, 16711680,Asterisk.bmp ,0,MF3 ,0 MF, 4,MF 4, 48.661667, 26.677778, 0, 16777215, 16711680, ,0,MF4 ,0 MF, 5,CLA?, 48.643487, 26.493173, 0, 16777215, 16711680, ,0,MF5 ,0 MF, 6,CLA?, 48.638059, 26.485764, 0, 16777215, 16711680, ,0,MF6 ,0 MF, 20,Hotel, 48.676074, 26.560148, 0, 16777215, 16711680,Home.BMP ,0,MF20 ,0
Track File = TF These follow if they exist
Moving Map Parameters = MM? These follow if they exist
MM0,Yes
MMPNUM,4
MMPXY,1,0,0
MMPXY,2,5864,2
MMPXY,3,5860,5350
MMPXY,4,4,5350
MMPLL,1, 26.309347, 48.828319
MMPLL,2, 26.815744, 48.828561
MMPLL,3, 26.813889, 48.520157
MMPLL,4, 26.311260, 48.519809
MM1B,6.338154
LL Grid Setup
LLGRID,No,5 Sec,No,255,16711680,0,30 Sec,0,16777215,7,1,Yes,x
Other Grid Setup
GRGRID,Yes,500 m,Yes,16711680,255,500 m,0,16777215,8,1,Yes,Yes,No,x
MOP,Map Open Position,0,0
IWH,Map Image Width/Height,5867,5354
